BEGIN:VCALENDAR
VERSION:2.0
PRODID:-//Win-River Resort &amp; Casino - ECPv6.15.18//NONSGML v1.0//EN
CALSCALE:GREGORIAN
METHOD:PUBLISH
X-ORIGINAL-URL:https://winriver.com
X-WR-CALDESC:Events for Win-River Resort &amp; Casino
REFRESH-INTERVAL;VALUE=DURATION:PT1H
X-Robots-Tag:noindex
X-PUBLISHED-TTL:PT1H
BEGIN:VTIMEZONE
TZID:UTC
BEGIN:STANDARD
TZOFFSETFROM:+0000
TZOFFSETTO:+0000
TZNAME:UTC
DTSTART:20250101T000000
END:STANDARD
END:VTIMEZONE
BEGIN:VEVENT
DTSTART;TZID=UTC:20260424T213000
DTEND;TZID=UTC:20260424T213000
DTSTAMP:20260421T034248
CREATED:20241230T174605Z
LAST-MODIFIED:20241230T174844Z
UID:10001288-1777066200-1777066200@winriver.com
SUMMARY:Overtime Live DVJ
DESCRIPTION:Friday & Saturdays 9:30pm – 1:30am \nCome into Overtime\, have a few drinks\, and groove the night away with some of Redding’s hottest DVJs. \nSee Overtime for details. Must have a River Club Card with matching and valid ID to participate. Win-River Resort & Casino reserves the right to change\, modify or cancel this promotion at anytime without prior notice. Game responsibly\, gambling problem please call 1-800-GAMBLER (426-2537). \nThere is no cover fee. Must be 21+ to attend.
URL:https://winriver.com/event/overtime-live-dvj-2/2026-04-24/
LOCATION:Overtime\, 2100 Redding Rancheria Rd\, REDDING\, CA\, 96001-2210\, United States
CATEGORIES:Entertainment
ATTACH;FMTTYPE=image/webp:https://winriver.com/wp-content/uploads/2024/12/OvertimeLive_DVJ_1200x628_With-DJ-WebP.webp
ORGANIZER;CN="Win-River Resort & Casino":MAILTO:wrrcweb@win-river.com
END:VEVENT
BEGIN:VEVENT
DTSTART;TZID=UTC:20260425T213000
DTEND;TZID=UTC:20260425T213000
DTSTAMP:20260421T034248
CREATED:20241230T174605Z
LAST-MODIFIED:20241230T174844Z
UID:10001289-1777152600-1777152600@winriver.com
SUMMARY:Overtime Live DVJ
DESCRIPTION:Friday & Saturdays 9:30pm – 1:30am \nCome into Overtime\, have a few drinks\, and groove the night away with some of Redding’s hottest DVJs. \nSee Overtime for details. Must have a River Club Card with matching and valid ID to participate. Win-River Resort & Casino reserves the right to change\, modify or cancel this promotion at anytime without prior notice. Game responsibly\, gambling problem please call 1-800-GAMBLER (426-2537). \nThere is no cover fee. Must be 21+ to attend.
URL:https://winriver.com/event/overtime-live-dvj-2/2026-04-25/
LOCATION:Overtime\, 2100 Redding Rancheria Rd\, REDDING\, CA\, 96001-2210\, United States
CATEGORIES:Entertainment
ATTACH;FMTTYPE=image/webp:https://winriver.com/wp-content/uploads/2024/12/OvertimeLive_DVJ_1200x628_With-DJ-WebP.webp
ORGANIZER;CN="Win-River Resort & Casino":MAILTO:wrrcweb@win-river.com
END:VEVENT
BEGIN:VEVENT
DTSTART;TZID=UTC:20260426T193000
DTEND;TZID=UTC:20260426T220000
DTSTAMP:20260421T034248
CREATED:20251112T194025Z
LAST-MODIFIED:20260323T190028Z
UID:10005401-1777231800-1777240800@winriver.com
SUMMARY:Chase Matthew LIVE
DESCRIPTION:Purchase Tickets Here \nGeneral Admission $40 +fees \nCatch Chase Matthew live in concert on Sunday\, April 26\, 2026\, in the Event Center. \nRolling into the spotlight with raw energy and real country grit\, Chase Matthew is one of today’s boldest new voices in country music. A Nashville native with over 1 billion global streams\, Chase first turned heads with his PLATINUM-certified hit “County Line”\, followed by fan favorites like “Love You Again” and his latest single\, “First.”
URL:https://winriver.com/event/chase-mathew-live/
LOCATION:The Event Center at Win-River Resort & Casino\, 2100 Redding Rancheria Rd\, REDDING\, CA\, 96001-2210\, United States
CATEGORIES:Entertainment
ATTACH;FMTTYPE=image/png:https://winriver.com/wp-content/uploads/2025/11/Chase-Mathew_1200x628.png
ORGANIZER;CN="Win-River Resort & Casino":MAILTO:wrrcweb@win-river.com
END:VEVENT
END:VCALENDAR